BEGIN:VCALENDAR
VERSION:2.0
PRODID:-//alsintheheartland.org//NONSGML kigkonsult.se iCalcreator 2.30.10/
 /
CALSCALE:GREGORIAN
METHOD:PUBLISH
UID:a62835ff-6f7d-40ca-99fd-6fa73ee112c4
X-WR-CALDESC:Join us on Sunday\, October 4th at Crystal Cove Park in South 
 Sioux City for the Sioux City Area ALS Walk. \n\nOn site registration and 
 activities begin at 1pm.\nThe ceremonial walk will take off at 2pm. \n\nWe
  will have refreshments\, snacks\, & family friendly activities! Walk rout
 es are handicapped accessible and pet friendly. We look forward to seeing 
 you there!
X-WR-RELCALID:92a4462714d794e6752780f790f43f39
X-WR-TIMEZONE:America/Chicago
BEGIN:VTIMEZONE
TZID:America/Chicago
BEGIN:STANDARD
TZNAME:CST
DTSTART:20251102T020000
TZOFFSETFROM:-0500
TZOFFSETTO:-0600
RDATE:20261101T020000
RDATE:20271107T020000
END:STANDARD
BEGIN:DAYLIGHT
TZNAME:CDT
DTSTART:20260308T020000
TZOFFSETFROM:-0600
TZOFFSETTO:-0500
RDATE:20270314T020000
RDATE:20280312T020000
END:DAYLIGHT
END:VTIMEZONE
BEGIN:VEVENT
UID:85e2f057-0ecd-4363-8848-73e5d9d0e941
DTSTAMP:20260422T041843Z
DESCRIPTION:Join us on Sunday\, October 4th at Crystal Cove Park in South S
 ioux City for the Sioux City Area ALS Walk. \n\nOn site registration and a
 ctivities begin at 1pm.\nThe ceremonial walk will take off at 2pm. \n\nWe 
 will have refreshments\, snacks\, & family friendly activities! Walk route
 s are handicapped accessible and pet friendly. We look forward to seeing y
 ou there!
DTSTART;TZID=America/Chicago:20261004T130000
DTEND;TZID=America/Chicago:20261004T150000
LOCATION:Crystal Cove Park - W 39th Street South Sioux City\, NE 68776
SUMMARY:2026 South Sioux City Area Walk - South Sioux City\, NE
END:VEVENT
END:VCALENDAR
